BEGIN:VCALENDAR
VERSION:2.0
PRODID:-//wp-events-plugin.com//7.2.3.1//EN
TZID:Europe/Amsterdam
X-WR-TIMEZONE:Europe/Amsterdam
BEGIN:VEVENT
UID:5@theaterkuilfalieberg.nl
DTSTART;TZID=Europe/Amsterdam:20260614T140000
DTEND;TZID=Europe/Amsterdam:20260614T153000
DTSTAMP:20260423T134113Z
URL:https://theaterkuilfalieberg.nl/events/janco-de-leeuw/
SUMMARY:Janco de Leeuw
DESCRIPTION:Janco de Leeuw is een klassieke gitarist\, die een grote affini
 teit heeft met de klassieke en Zuid-Amerikaanse gitaarmuziek. Hij speelt z
 elf geschreven instrumentale nummers voor de gitaar. Het mooie gebied van 
 Middag-Humsterland boven de stad Groningen is voor hem een grote inspirati
 ebron. De sfeer en de rust van dit oude land werken door in de composities
  die hij maakt en vaak verwijzen titels van de nummers naar elementen uit 
 het landschap.\n\n&nbsp\;
ATTACH;FMTTYPE=image/jpeg:https://theaterkuilfalieberg.nl/wp-content/uploa
 ds/2026/04/janco-de-Leeuw.jpg
CATEGORIES:Zang
END:VEVENT
BEGIN:VTIMEZONE
TZID:Europe/Amsterdam
X-LIC-LOCATION:Europe/Amsterdam
BEGIN:DAYLIGHT
DTSTART:20260329T030000
TZOFFSETFROM:+0100
TZOFFSETTO:+0200
TZNAME:CEST
END:DAYLIGHT
END:VTIMEZONE
END:VCALENDAR