BEGIN:VCALENDAR
VERSION:2.0
PRODID:-//wp-events-plugin.com//7.2.3.1//EN
TZID:Europe/Amsterdam
X-WR-TIMEZONE:Europe/Amsterdam
BEGIN:VEVENT
UID:6@theaterkuilfalieberg.nl
DTSTART;TZID=Europe/Amsterdam:20260712T140000
DTEND;TZID=Europe/Amsterdam:20260712T153000
DTSTAMP:20260423T142557Z
URL:https://theaterkuilfalieberg.nl/events/northern-sky/
SUMMARY:Northern Sky
DESCRIPTION:Northern Sky is een moderne en eigenzinnige bluesband uit Meppe
 l en de regio. Ruim de helft van hun repertoire bestaat uit eigen werk\, a
 angevuld met covers van bekende en onbekende blues artiesten. Maar wel op 
 'eigen wijze' vertolkt. Zo sta je ongedwongen te dansen en zo snijden\ntek
 st en melodie dwars door je ziel. Beleef een muzikale reis door de moderne
  en tijdloze blues.
ATTACH;FMTTYPE=image/jpeg:https://theaterkuilfalieberg.nl/wp-content/uploa
 ds/2026/04/Northern-sky-band.jpg
CATEGORIES:Zang
END:VEVENT
BEGIN:VTIMEZONE
TZID:Europe/Amsterdam
X-LIC-LOCATION:Europe/Amsterdam
BEGIN:DAYLIGHT
DTSTART:20260329T030000
TZOFFSETFROM:+0100
TZOFFSETTO:+0200
TZNAME:CEST
END:DAYLIGHT
END:VTIMEZONE
END:VCALENDAR